BEGIN:VCALENDAR
VERSION:2.0
PRODID:-//Verein zur Förderung der Zollkapelle Berlin e.V. - ECPv4.9.5//NONSGML v1.0//EN
CALSCALE:GREGORIAN
METHOD:PUBLISH
X-WR-CALNAME:Verein zur Förderung der Zollkapelle Berlin e.V.
X-ORIGINAL-URL:https://zollkapelle-berlin.de
X-WR-CALDESC:Veranstaltungen im Verein zur Förderung der Zollkapelle Berlin e.V.
BEGIN:VTIMEZONE
TZID:"Europe/Helsinki"
BEGIN:DAYLIGHT
TZOFFSETFROM:+0200
TZOFFSETTO:+0300
TZNAME:EEST
DTSTART:20190331T010000
END:DAYLIGHT
BEGIN:STANDARD
TZOFFSETFROM:+0300
TZOFFSETTO:+0200
TZNAME:EET
DTSTART:20191027T010000
END:STANDARD
END:VTIMEZONE
BEGIN:VEVENT
DTSTART;TZID="Europe/Helsinki":20190827T130000
DTEND;TZID="Europe/Helsinki":20190827T200000
DTSTAMP:20260421T014040
CREATED:20190712T091606Z
LAST-MODIFIED:20190712T091606Z
UID:218-1566910800-1566936000@zollkapelle-berlin.de
SUMMARY:Mitarbeiterfest 2019
DESCRIPTION:
URL:https://zollkapelle-berlin.de/auftrittstermine/mitarbeiterfest-2019-2/
LOCATION:GZD\, SC DD\, Carusufer 3-5\, Dresden\, 01099\, Deutschland
CATEGORIES:ComboZolla
END:VEVENT
END:VCALENDAR